BEGIN:VCALENDAR
VERSION:2.0
PRODID:-// - ECPv5.1.6//NONSGML v1.0//EN
CALSCALE:GREGORIAN
METHOD:PUBLISH
X-ORIGINAL-URL:https://conductivetaranaki.org.nz
X-WR-CALDESC:Events for 
BEGIN:VTIMEZONE
TZID:Pacific/Auckland
BEGIN:STANDARD
TZOFFSETFROM:+1300
TZOFFSETTO:+1200
TZNAME:NZST
DTSTART:20200404T140000
END:STANDARD
BEGIN:DAYLIGHT
TZOFFSETFROM:+1200
TZOFFSETTO:+1300
TZNAME:NZDT
DTSTART:20200926T140000
END:DAYLIGHT
END:VTIMEZONE
BEGIN:VEVENT
DTSTART;TZID=Pacific/Auckland:20200822T120000
DTEND;TZID=Pacific/Auckland:20200822T120000
DTSTAMP:20210120T145636
CREATED:20200820T041016Z
LAST-MODIFIED:20200820T041016Z
UID:319-1598097600-1598097600@conductivetaranaki.org.nz
SUMMARY:Event Demo
DESCRIPTION:Event Demo
URL:https://conductivetaranaki.org.nz/event/event-demo/
LOCATION:The TSB Showplace\, 92-100 Devon Street West\, New Plymouth\, Taranaki\, 4601\, New Zealand
END:VEVENT
END:VCALENDAR